BEGIN:VCALENDAR
VERSION:2.0
PRODID:-// - ECPv6.15.12.2//NONSGML v1.0//EN
CALSCALE:GREGORIAN
METHOD:PUBLISH
X-ORIGINAL-URL:https://mikehazi.hu
X-WR-CALDESC:Események 
REFRESH-INTERVAL;VALUE=DURATION:PT1H
X-Robots-Tag:noindex
X-PUBLISHED-TTL:PT1H
BEGIN:VTIMEZONE
TZID:Europe/Budapest
BEGIN:DAYLIGHT
TZOFFSETFROM:+0100
TZOFFSETTO:+0200
TZNAME:CEST
DTSTART:20230326T010000
END:DAYLIGHT
BEGIN:STANDARD
TZOFFSETFROM:+0200
TZOFFSETTO:+0100
TZNAME:CET
DTSTART:20231029T010000
END:STANDARD
BEGIN:DAYLIGHT
TZOFFSETFROM:+0100
TZOFFSETTO:+0200
TZNAME:CEST
DTSTART:20240331T010000
END:DAYLIGHT
BEGIN:STANDARD
TZOFFSETFROM:+0200
TZOFFSETTO:+0100
TZNAME:CET
DTSTART:20241027T010000
END:STANDARD
BEGIN:DAYLIGHT
TZOFFSETFROM:+0100
TZOFFSETTO:+0200
TZNAME:CEST
DTSTART:20250330T010000
END:DAYLIGHT
BEGIN:STANDARD
TZOFFSETFROM:+0200
TZOFFSETTO:+0100
TZNAME:CET
DTSTART:20251026T010000
END:STANDARD
END:VTIMEZONE
BEGIN:VEVENT
DTSTART;TZID=Europe/Budapest:20241116T140000
DTEND;TZID=Europe/Budapest:20241116T235900
DTSTAMP:20260425T125108
CREATED:20240925T191550Z
LAST-MODIFIED:20241008T200505Z
UID:899-1731765600-1731801540@mikehazi.hu
SUMMARY:Márton-nap // vigasság és újbor kóstoló - szombat
DESCRIPTION:Márton-napi vigasság és újbor kóstoló Villánykövesden a Mikeházi Pincészetnél. \nGyertek el hozzánk idén is és ünnepeljetek velünk!  Számos 2023-as borunkat utoljára kóstolhatjátok ezen az eseményen\, s ahogy minden vég új kezdet\, így ez a nap 2024-es újboraink kóstolásának lesz az alkalma. Életre kelnek ezen a különleges estén régi szokások: gyertyafényes asztalok\, liba és zamatos újbor vár ránk. A régi ódon pincében együtt elevenítjük fel a Márton-napi legendákat\, népszokásokat. \nAz eseményen várható: \n\nélőzene – 30fok árnyékban\nhordócsapolás\nújbor kóstolás (és korlátlan fogyasztás)\nlibatöpörtyű lilahagymával\, friss kenyérrel és pogácsával\nvacsora: libapaprikás dödöllével\n\nRészvételi díj: 7.500 Ft/fő\, vacsorával: 12.000 Ft/fő. \nA létszám korlátozott\, kérünk jelezd részvételi szándékod vagy regisztrálj az eseményre honlapunkon. \n  \nVárunk szeretettel: \nAnton és Kata
URL:https://mikehazi.hu/event/marton-nap-vigassag-es-ujbor-kostolo-nov-16/
LOCATION:Mikeházi Pincészet\, 7772 Villánykövesd\, Pincesor 16.\, Baranya\, Magyarország
ORGANIZER;CN="Mikeh%C3%A1zi Anton":MAILTO:info@mikehazi.hu
END:VEVENT
BEGIN:VEVENT
DTSTART;TZID=Europe/Budapest:20241115T160000
DTEND;TZID=Europe/Budapest:20241115T235900
DTSTAMP:20260425T125108
CREATED:20240925T124303Z
LAST-MODIFIED:20241008T202716Z
UID:881-1731686400-1731715140@mikehazi.hu
SUMMARY:Márton-nap // vigasság és újbor kóstoló - péntek
DESCRIPTION:Márton-napi vigasság és újbor kóstoló Villánykövesden a Mikeházi Pincészetnél. \nGyertek el hozzánk idén is és ünnepeljetek velünk!  Számos 2023-as borunkat utoljára kóstolhatjátok ezen az eseményen\, s ahogy minden vég új kezdet\, így ez a nap 2024-es újboraink kóstolásának lesz az alkalma. Életre kelnek ezen a különleges estén régi szokások: gyertyafényes asztalok\, liba és zamatos újbor vár ránk. A régi ódon pincében együtt elevenítjük fel a Márton-napi legendákat\, népszokásokat. \nAz eseményen várható: \n\nélőzene – 30fok árnyékban\nhordócsapolás\nújbor kóstolás (és korlátlan fogyasztás)\nlibatöpörtyű lilahagymával\, friss kenyérrel és pogácsával\nvacsora: libapaprikás dödöllével\n\nRészvételi díj: 7.500 Ft/fő\, vacsorával: 12.000 Ft/fő. \nA létszám korlátozott\, kérünk jelezd részvételi szándékod vagy regisztrálj az eseményre honlapunkon. \n  \nVárunk szeretettel: \nAnton és Kata
URL:https://mikehazi.hu/event/marton-nap-vigassag-es-ujbor-kostolo-24-nov-15-16/
LOCATION:Mikeházi Pincészet\, 7772 Villánykövesd\, Pincesor 16.\, Baranya\, Magyarország
ORGANIZER;CN="Mikeh%C3%A1zi Anton":MAILTO:info@mikehazi.hu
END:VEVENT
END:VCALENDAR